BEGIN:VCALENDAR
VERSION:2.0
PRODID:-//ChurchDev//Events//EN
CALSCALE:GREGORIAN
METHOD:PUBLISH
BEGIN:VEVENT
UID:4637-20260419@www.fccrichlands.org
SUMMARY:S.T.A.R.S LUNCH
DTSTART:20260419T163000Z
DTEND:20260419T173000Z
DESCRIPTION:https://www.fccrichlands.org/events/s-t-a-r-s-lunch/
LOCATION:124 Trott Rd. Richlands\, NC
URL:https://www.fccrichlands.org/events/s-t-a-r-s-lunch/
DTSTAMP:20260419T200859Z
END:VEVENT
END:VCALENDAR
