BEGIN:VCALENDAR
VERSION:2.0
PRODID:-//ChurchDev//Events//EN
CALSCALE:GREGORIAN
METHOD:PUBLISH
BEGIN:VEVENT
UID:4643-20260426@www.fccrichlands.org
SUMMARY:KIDS FOR CHRIST
DTSTART:20260426T203000Z
DTEND:20260426T220000Z
DESCRIPTION:https://www.fccrichlands.org/events/kids-for-christ-2/
LOCATION:124 Trott Rd. Richlands\, NC
URL:https://www.fccrichlands.org/events/kids-for-christ-2/
DTSTAMP:20260419T200832Z
END:VEVENT
END:VCALENDAR
